BEGIN:VCALENDAR
VERSION:2.0
PRODID:-//San Luis Coastal Teachers Association - ECPv6.15.20//NONSGML v1.0//EN
CALSCALE:GREGORIAN
METHOD:PUBLISH
X-ORIGINAL-URL:https://www.slcta.org
X-WR-CALDESC:Events for San Luis Coastal Teachers Association
REFRESH-INTERVAL;VALUE=DURATION:PT1H
X-Robots-Tag:noindex
X-PUBLISHED-TTL:PT1H
BEGIN:VTIMEZONE
TZID:America/Los_Angeles
BEGIN:DAYLIGHT
TZOFFSETFROM:-0800
TZOFFSETTO:-0700
TZNAME:PDT
DTSTART:20250309T100000
END:DAYLIGHT
BEGIN:STANDARD
TZOFFSETFROM:-0700
TZOFFSETTO:-0800
TZNAME:PST
DTSTART:20251102T090000
END:STANDARD
BEGIN:DAYLIGHT
TZOFFSETFROM:-0800
TZOFFSETTO:-0700
TZNAME:PDT
DTSTART:20260308T100000
END:DAYLIGHT
BEGIN:STANDARD
TZOFFSETFROM:-0700
TZOFFSETTO:-0800
TZNAME:PST
DTSTART:20261101T090000
END:STANDARD
BEGIN:DAYLIGHT
TZOFFSETFROM:-0800
TZOFFSETTO:-0700
TZNAME:PDT
DTSTART:20270314T100000
END:DAYLIGHT
BEGIN:STANDARD
TZOFFSETFROM:-0700
TZOFFSETTO:-0800
TZNAME:PST
DTSTART:20271107T090000
END:STANDARD
END:VTIMEZONE
BEGIN:VEVENT
DTSTART;TZID=America/Los_Angeles:20260302T160000
DTEND;TZID=America/Los_Angeles:20260302T173000
DTSTAMP:20260425T031743
CREATED:20250826T135721Z
LAST-MODIFIED:20250826T135721Z
UID:2954-1772467200-1772472600@www.slcta.org
SUMMARY:Site Rep Meeting
DESCRIPTION:
URL:https://www.slcta.org/event/site-rep-meeting-30/
LOCATION:Bishops Peak Library\, 451 Jaycee Drive\, San Luis Obispo\, CA\, 93405\, United States
CATEGORIES:Site Rep & Exec Board
END:VEVENT
END:VCALENDAR