BEGIN:VCALENDAR
VERSION:2.0
PRODID:-//San Luis Coastal Teachers Association - ECPv6.15.20//NONSGML v1.0//EN
CALSCALE:GREGORIAN
METHOD:PUBLISH
X-ORIGINAL-URL:https://www.slcta.org
X-WR-CALDESC:Events for San Luis Coastal Teachers Association
REFRESH-INTERVAL;VALUE=DURATION:PT1H
X-Robots-Tag:noindex
X-PUBLISHED-TTL:PT1H
BEGIN:VTIMEZONE
TZID:America/Los_Angeles
BEGIN:DAYLIGHT
TZOFFSETFROM:-0800
TZOFFSETTO:-0700
TZNAME:PDT
DTSTART:20170312T100000
END:DAYLIGHT
BEGIN:STANDARD
TZOFFSETFROM:-0700
TZOFFSETTO:-0800
TZNAME:PST
DTSTART:20171105T090000
END:STANDARD
BEGIN:DAYLIGHT
TZOFFSETFROM:-0800
TZOFFSETTO:-0700
TZNAME:PDT
DTSTART:20180311T100000
END:DAYLIGHT
BEGIN:STANDARD
TZOFFSETFROM:-0700
TZOFFSETTO:-0800
TZNAME:PST
DTSTART:20181104T090000
END:STANDARD
BEGIN:DAYLIGHT
TZOFFSETFROM:-0800
TZOFFSETTO:-0700
TZNAME:PDT
DTSTART:20190310T100000
END:DAYLIGHT
BEGIN:STANDARD
TZOFFSETFROM:-0700
TZOFFSETTO:-0800
TZNAME:PST
DTSTART:20191103T090000
END:STANDARD
BEGIN:DAYLIGHT
TZOFFSETFROM:-0800
TZOFFSETTO:-0700
TZNAME:PDT
DTSTART:20200308T100000
END:DAYLIGHT
BEGIN:STANDARD
TZOFFSETFROM:-0700
TZOFFSETTO:-0800
TZNAME:PST
DTSTART:20201101T090000
END:STANDARD
END:VTIMEZONE
BEGIN:VEVENT
DTSTART;TZID=America/Los_Angeles:20190903T160000
DTEND;TZID=America/Los_Angeles:20190903T173000
DTSTAMP:20260425T102416
CREATED:20190817T002941Z
LAST-MODIFIED:20190817T002941Z
UID:2182-1567526400-1567531800@www.slcta.org
SUMMARY:Site Rep Training
DESCRIPTION:
URL:https://www.slcta.org/event/site-rep-training/
LOCATION:SLCTA Office\, 1310 Van Beurden Drive\, Building C-1\, Los Osos\, CA\, 93412\, United States
CATEGORIES:Site Rep & Exec Board
END:VEVENT
BEGIN:VEVENT
DTSTART;TZID=America/Los_Angeles:20190528T160000
DTEND;TZID=America/Los_Angeles:20190528T173000
DTSTAMP:20260425T102416
CREATED:20180914T235049Z
LAST-MODIFIED:20180914T235049Z
UID:1899-1559059200-1559064600@www.slcta.org
SUMMARY:Site Rep Meeting (Ex Bd Mtg Follows)
DESCRIPTION:
URL:https://www.slcta.org/event/site-rep-meeting-ex-bd-mtg-follows-6/
LOCATION:SLCTA Office\, 1310 Van Beurden Drive\, Building C-1\, Los Osos\, CA\, 93412\, United States
CATEGORIES:Site Rep & Exec Board
END:VEVENT
BEGIN:VEVENT
DTSTART;TZID=America/Los_Angeles:20190507T160000
DTEND;TZID=America/Los_Angeles:20190507T173000
DTSTAMP:20260425T102416
CREATED:20180914T234826Z
LAST-MODIFIED:20180914T234826Z
UID:1895-1557244800-1557250200@www.slcta.org
SUMMARY:Site Rep Meeting (Ex Bd Mtg Follows)
DESCRIPTION:
URL:https://www.slcta.org/event/site-rep-meeting-ex-bd-mtg-follows-5/
LOCATION:SLCTA Office\, 1310 Van Beurden Drive\, Building C-1\, Los Osos\, CA\, 93412\, United States
CATEGORIES:Site Rep & Exec Board
END:VEVENT
BEGIN:VEVENT
DTSTART;TZID=America/Los_Angeles:20190409T160000
DTEND;TZID=America/Los_Angeles:20190409T173000
DTSTAMP:20260425T102416
CREATED:20180914T234740Z
LAST-MODIFIED:20180914T234740Z
UID:1893-1554825600-1554831000@www.slcta.org
SUMMARY:Site Rep Meeting (Ex Bd Mtg Follows)
DESCRIPTION:
URL:https://www.slcta.org/event/site-rep-meeting-ex-bd-mtg-follows-4/
LOCATION:Bishops Peak Library\, 451 Jaycee Drive\, San Luis Obispo\, CA\, 93405\, United States
CATEGORIES:Site Rep & Exec Board
END:VEVENT
BEGIN:VEVENT
DTSTART;TZID=America/Los_Angeles:20190305T160000
DTEND;TZID=America/Los_Angeles:20190305T173000
DTSTAMP:20260425T102416
CREATED:20180914T234639Z
LAST-MODIFIED:20180914T234639Z
UID:1891-1551801600-1551807000@www.slcta.org
SUMMARY:Site Rep Meeting (Ex Bd Mtg Follows)
DESCRIPTION:
URL:https://www.slcta.org/event/site-rep-meeting-ex-bd-mtg-follows-3/
LOCATION:SLCTA Office\, 1310 Van Beurden Drive\, Building C-1\, Los Osos\, CA\, 93412\, United States
CATEGORIES:Site Rep & Exec Board
END:VEVENT
BEGIN:VEVENT
DTSTART;TZID=America/Los_Angeles:20190212T160000
DTEND;TZID=America/Los_Angeles:20190212T173000
DTSTAMP:20260425T102416
CREATED:20180914T234545Z
LAST-MODIFIED:20180914T234545Z
UID:1889-1549987200-1549992600@www.slcta.org
SUMMARY:Site Rep Meeting (Ex Bd Mtg Follows)
DESCRIPTION:
URL:https://www.slcta.org/event/site-rep-meeting-ex-bd-mtg-follows-2/
LOCATION:Bishops Peak Library\, 451 Jaycee Drive\, San Luis Obispo\, CA\, 93405\, United States
CATEGORIES:Site Rep & Exec Board
END:VEVENT
BEGIN:VEVENT
DTSTART;TZID=America/Los_Angeles:20190108T160000
DTEND;TZID=America/Los_Angeles:20190108T173000
DTSTAMP:20260425T102416
CREATED:20180914T234325Z
LAST-MODIFIED:20180914T234325Z
UID:1885-1546963200-1546968600@www.slcta.org
SUMMARY:Site Rep Meeting (Ex Bd Mtg Follows)
DESCRIPTION:
URL:https://www.slcta.org/event/site-rep-meeting-ex-bd-mtg-follows/
LOCATION:SLCTA Office\, 1310 Van Beurden Drive\, Building C-1\, Los Osos\, CA\, 93412\, United States
CATEGORIES:Site Rep & Exec Board
END:VEVENT
BEGIN:VEVENT
DTSTART;TZID=America/Los_Angeles:20181211T160000
DTEND;TZID=America/Los_Angeles:20181211T173000
DTSTAMP:20260425T102416
CREATED:20180914T234224Z
LAST-MODIFIED:20180914T234224Z
UID:1883-1544544000-1544549400@www.slcta.org
SUMMARY:Site Rep Meeting (Exec Bd Mtg Follows)
DESCRIPTION:
URL:https://www.slcta.org/event/site-rep-meeting-exec-bd-mtg-follows-3/
LOCATION:Bishops Peak Library\, 451 Jaycee Drive\, San Luis Obispo\, CA\, 93405\, United States
CATEGORIES:Site Rep & Exec Board
END:VEVENT
BEGIN:VEVENT
DTSTART;TZID=America/Los_Angeles:20181009T160000
DTEND;TZID=America/Los_Angeles:20181009T173000
DTSTAMP:20260425T102416
CREATED:20180914T233352Z
LAST-MODIFIED:20180914T233352Z
UID:1873-1539100800-1539106200@www.slcta.org
SUMMARY:Site Rep Meeting (Exec Bd. Mtg follows)
DESCRIPTION:
URL:https://www.slcta.org/event/site-rep-meeting-exec-bd-mtg-follows-2/
LOCATION:Bishops Peak Library\, 451 Jaycee Drive\, San Luis Obispo\, CA\, 93405\, United States
CATEGORIES:Site Rep & Exec Board
END:VEVENT
BEGIN:VEVENT
DTSTART;TZID=America/Los_Angeles:20180918T160000
DTEND;TZID=America/Los_Angeles:20180918T173000
DTSTAMP:20260425T102416
CREATED:20180914T233253Z
LAST-MODIFIED:20180914T233253Z
UID:1871-1537286400-1537291800@www.slcta.org
SUMMARY:Site Rep Meeting (Exec Bd. Mtg follows)
DESCRIPTION:
URL:https://www.slcta.org/event/site-rep-meeting-exec-bd-mtg-follows/
LOCATION:SLCTA Office\, 1310 Van Beurden Drive\, Building C-1\, Los Osos\, CA\, 93412\, United States
CATEGORIES:Site Rep & Exec Board
END:VEVENT
END:VCALENDAR