BEGIN:VCALENDAR
VERSION:2.0
PRODID:-//San Luis Coastal Teachers Association - ECPv6.15.20//NONSGML v1.0//EN
CALSCALE:GREGORIAN
METHOD:PUBLISH
X-ORIGINAL-URL:https://www.slcta.org
X-WR-CALDESC:Events for San Luis Coastal Teachers Association
REFRESH-INTERVAL;VALUE=DURATION:PT1H
X-Robots-Tag:noindex
X-PUBLISHED-TTL:PT1H
BEGIN:VTIMEZONE
TZID:America/Los_Angeles
BEGIN:DAYLIGHT
TZOFFSETFROM:-0800
TZOFFSETTO:-0700
TZNAME:PDT
DTSTART:20170312T100000
END:DAYLIGHT
BEGIN:STANDARD
TZOFFSETFROM:-0700
TZOFFSETTO:-0800
TZNAME:PST
DTSTART:20171105T090000
END:STANDARD
BEGIN:DAYLIGHT
TZOFFSETFROM:-0800
TZOFFSETTO:-0700
TZNAME:PDT
DTSTART:20180311T100000
END:DAYLIGHT
BEGIN:STANDARD
TZOFFSETFROM:-0700
TZOFFSETTO:-0800
TZNAME:PST
DTSTART:20181104T090000
END:STANDARD
BEGIN:DAYLIGHT
TZOFFSETFROM:-0800
TZOFFSETTO:-0700
TZNAME:PDT
DTSTART:20190310T100000
END:DAYLIGHT
BEGIN:STANDARD
TZOFFSETFROM:-0700
TZOFFSETTO:-0800
TZNAME:PST
DTSTART:20191103T090000
END:STANDARD
BEGIN:DAYLIGHT
TZOFFSETFROM:-0800
TZOFFSETTO:-0700
TZNAME:PDT
DTSTART:20200308T100000
END:DAYLIGHT
BEGIN:STANDARD
TZOFFSETFROM:-0700
TZOFFSETTO:-0800
TZNAME:PST
DTSTART:20201101T090000
END:STANDARD
BEGIN:DAYLIGHT
TZOFFSETFROM:-0800
TZOFFSETTO:-0700
TZNAME:PDT
DTSTART:20210314T100000
END:DAYLIGHT
BEGIN:STANDARD
TZOFFSETFROM:-0700
TZOFFSETTO:-0800
TZNAME:PST
DTSTART:20211107T090000
END:STANDARD
BEGIN:DAYLIGHT
TZOFFSETFROM:-0800
TZOFFSETTO:-0700
TZNAME:PDT
DTSTART:20220313T100000
END:DAYLIGHT
BEGIN:STANDARD
TZOFFSETFROM:-0700
TZOFFSETTO:-0800
TZNAME:PST
DTSTART:20221106T090000
END:STANDARD
BEGIN:DAYLIGHT
TZOFFSETFROM:-0800
TZOFFSETTO:-0700
TZNAME:PDT
DTSTART:20230312T100000
END:DAYLIGHT
BEGIN:STANDARD
TZOFFSETFROM:-0700
TZOFFSETTO:-0800
TZNAME:PST
DTSTART:20231105T090000
END:STANDARD
BEGIN:DAYLIGHT
TZOFFSETFROM:-0800
TZOFFSETTO:-0700
TZNAME:PDT
DTSTART:20240310T100000
END:DAYLIGHT
BEGIN:STANDARD
TZOFFSETFROM:-0700
TZOFFSETTO:-0800
TZNAME:PST
DTSTART:20241103T090000
END:STANDARD
BEGIN:DAYLIGHT
TZOFFSETFROM:-0800
TZOFFSETTO:-0700
TZNAME:PDT
DTSTART:20250309T100000
END:DAYLIGHT
BEGIN:STANDARD
TZOFFSETFROM:-0700
TZOFFSETTO:-0800
TZNAME:PST
DTSTART:20251102T090000
END:STANDARD
BEGIN:DAYLIGHT
TZOFFSETFROM:-0800
TZOFFSETTO:-0700
TZNAME:PDT
DTSTART:20260308T100000
END:DAYLIGHT
BEGIN:STANDARD
TZOFFSETFROM:-0700
TZOFFSETTO:-0800
TZNAME:PST
DTSTART:20261101T090000
END:STANDARD
END:VTIMEZONE
BEGIN:VEVENT
DTSTART;TZID=America/Los_Angeles:20250303T160000
DTEND;TZID=America/Los_Angeles:20250303T173000
DTSTAMP:20260425T070507
CREATED:20240916T231508Z
LAST-MODIFIED:20240916T231508Z
UID:2840-1741017600-1741023000@www.slcta.org
SUMMARY:Site Rep Meeting
DESCRIPTION:
URL:https://www.slcta.org/event/site-rep-meeting-19/
LOCATION:Bishops Peak Library\, 451 Jaycee Drive\, San Luis Obispo\, CA\, 93405\, United States
CATEGORIES:Site Rep & Exec Board
END:VEVENT
BEGIN:VEVENT
DTSTART;TZID=America/Los_Angeles:20250203T160000
DTEND;TZID=America/Los_Angeles:20250203T170000
DTSTAMP:20260425T070507
CREATED:20240916T231408Z
LAST-MODIFIED:20240916T231408Z
UID:2838-1738598400-1738602000@www.slcta.org
SUMMARY:Site Rep Meeting
DESCRIPTION:
URL:https://www.slcta.org/event/site-rep-meeting-18/
LOCATION:Association Office\, 1310 Van Beurden Drive\, Building C-1\, Los Osos\, CA\, 93402\, United States
CATEGORIES:Site Rep & Exec Board
END:VEVENT
BEGIN:VEVENT
DTSTART;TZID=America/Los_Angeles:20250113T160000
DTEND;TZID=America/Los_Angeles:20250113T173000
DTSTAMP:20260425T070507
CREATED:20240916T231324Z
LAST-MODIFIED:20240916T231324Z
UID:2836-1736784000-1736789400@www.slcta.org
SUMMARY:Site Rep Meeting
DESCRIPTION:
URL:https://www.slcta.org/event/site-rep-meeting-17/
LOCATION:Bishops Peak Library\, 451 Jaycee Drive\, San Luis Obispo\, CA\, 93405\, United States
CATEGORIES:Site Rep & Exec Board
END:VEVENT
BEGIN:VEVENT
DTSTART;TZID=America/Los_Angeles:20241209T160000
DTEND;TZID=America/Los_Angeles:20241209T170000
DTSTAMP:20260425T070507
CREATED:20240916T231243Z
LAST-MODIFIED:20240916T231243Z
UID:2834-1733760000-1733763600@www.slcta.org
SUMMARY:Site Rep Meeting
DESCRIPTION:
URL:https://www.slcta.org/event/site-rep-meeting-16/
CATEGORIES:Site Rep & Exec Board
END:VEVENT
BEGIN:VEVENT
DTSTART;TZID=America/Los_Angeles:20241104T160000
DTEND;TZID=America/Los_Angeles:20241104T173000
DTSTAMP:20260425T070507
CREATED:20240916T231057Z
LAST-MODIFIED:20240916T231057Z
UID:2830-1730736000-1730741400@www.slcta.org
SUMMARY:Site Rep Meeting
DESCRIPTION:
URL:https://www.slcta.org/event/site-rep-meeting-15/
LOCATION:Bishops Peak Library\, 451 Jaycee Drive\, San Luis Obispo\, CA\, 93405\, United States
CATEGORIES:Site Rep & Exec Board
END:VEVENT
BEGIN:VEVENT
DTSTART;TZID=America/Los_Angeles:20241007T160000
DTEND;TZID=America/Los_Angeles:20241007T173000
DTSTAMP:20260425T070507
CREATED:20240916T230928Z
LAST-MODIFIED:20240916T230928Z
UID:2826-1728316800-1728322200@www.slcta.org
SUMMARY:Site Rep Meeting
DESCRIPTION:
URL:https://www.slcta.org/event/site-rep-meeting-14/
LOCATION:Association Office\, 1310 Van Beurden Drive\, Building C-1\, Los Osos\, CA\, 93402\, United States
CATEGORIES:Site Rep & Exec Board
END:VEVENT
BEGIN:VEVENT
DTSTART;TZID=America/Los_Angeles:20240909T160000
DTEND;TZID=America/Los_Angeles:20240909T173000
DTSTAMP:20260425T070507
CREATED:20240916T230850Z
LAST-MODIFIED:20240916T230850Z
UID:2824-1725897600-1725903000@www.slcta.org
SUMMARY:Site Rep Meeting
DESCRIPTION:
URL:https://www.slcta.org/event/site-rep-meeting-13/
LOCATION:Association Office\, 1310 Van Beurden Drive\, Building C-1\, Los Osos\, CA\, 93402\, United States
CATEGORIES:Site Rep & Exec Board
END:VEVENT
BEGIN:VEVENT
DTSTART;TZID=America/Los_Angeles:20230530T160000
DTEND;TZID=America/Los_Angeles:20230530T173000
DTSTAMP:20260425T070507
CREATED:20220831T044452Z
LAST-MODIFIED:20220831T045404Z
UID:2672-1685462400-1685467800@www.slcta.org
SUMMARY:Site Rep Meeting
DESCRIPTION:
URL:https://www.slcta.org/event/site-rep-meeting-12/
LOCATION:Association Office\, 1310 Van Beurden Drive\, Building C-1\, Los Osos\, CA\, 93402\, United States
CATEGORIES:Site Rep & Exec Board
ATTACH;FMTTYPE=image/png:https://www.slcta.org/wp-content/uploads/2014/11/cropped-slcta-logo.png
END:VEVENT
BEGIN:VEVENT
DTSTART;TZID=America/Los_Angeles:20230502T160000
DTEND;TZID=America/Los_Angeles:20230502T173000
DTSTAMP:20260425T070507
CREATED:20220831T044344Z
LAST-MODIFIED:20220831T045435Z
UID:2670-1683043200-1683048600@www.slcta.org
SUMMARY:Site Rep Meeting
DESCRIPTION:
URL:https://www.slcta.org/event/site-rep-meeting-11/
LOCATION:Bishops Peak Library\, 451 Jaycee Drive\, San Luis Obispo\, CA\, 93405\, United States
CATEGORIES:Site Rep & Exec Board
ATTACH;FMTTYPE=image/png:https://www.slcta.org/wp-content/uploads/2014/11/slcta-logo.png
END:VEVENT
BEGIN:VEVENT
DTSTART;TZID=America/Los_Angeles:20230404T160000
DTEND;TZID=America/Los_Angeles:20230404T173000
DTSTAMP:20260425T070507
CREATED:20220831T044238Z
LAST-MODIFIED:20220831T045528Z
UID:2668-1680624000-1680629400@www.slcta.org
SUMMARY:Site Rep Meeting
DESCRIPTION:
URL:https://www.slcta.org/event/site-rep-meeting-10/
LOCATION:Association Office\, 1310 Van Beurden Drive\, Building C-1\, Los Osos\, CA\, 93402\, United States
CATEGORIES:Site Rep & Exec Board
ATTACH;FMTTYPE=image/png:https://www.slcta.org/wp-content/uploads/2014/11/cropped-slcta-logo.png
END:VEVENT
BEGIN:VEVENT
DTSTART;TZID=America/Los_Angeles:20230307T160000
DTEND;TZID=America/Los_Angeles:20230307T173000
DTSTAMP:20260425T070507
CREATED:20220831T044117Z
LAST-MODIFIED:20220831T050029Z
UID:2666-1678204800-1678210200@www.slcta.org
SUMMARY:Site Rep Meeting
DESCRIPTION:
URL:https://www.slcta.org/event/site-rep-meeting-9/
LOCATION:Bishops Peak Library\, 451 Jaycee Drive\, San Luis Obispo\, CA\, 93405\, United States
CATEGORIES:Site Rep & Exec Board
ATTACH;FMTTYPE=image/png:https://www.slcta.org/wp-content/uploads/2014/11/cropped-slcta-logo.png
END:VEVENT
BEGIN:VEVENT
DTSTART;TZID=America/Los_Angeles:20230207T160000
DTEND;TZID=America/Los_Angeles:20230207T173000
DTSTAMP:20260425T070507
CREATED:20220831T044006Z
LAST-MODIFIED:20220831T045709Z
UID:2664-1675785600-1675791000@www.slcta.org
SUMMARY:Site Rep Meeting
DESCRIPTION:
URL:https://www.slcta.org/event/site-rep-meeting-8/
LOCATION:Association Office\, 1310 Van Beurden Drive\, Building C-1\, Los Osos\, CA\, 93402\, United States
CATEGORIES:Site Rep & Exec Board
ATTACH;FMTTYPE=image/png:https://www.slcta.org/wp-content/uploads/2014/11/cropped-slcta-logo.png
END:VEVENT
BEGIN:VEVENT
DTSTART;TZID=America/Los_Angeles:20230110T160000
DTEND;TZID=America/Los_Angeles:20230110T173000
DTSTAMP:20260425T070507
CREATED:20220831T043855Z
LAST-MODIFIED:20220831T045749Z
UID:2662-1673366400-1673371800@www.slcta.org
SUMMARY:Site Rep Meeting
DESCRIPTION:
URL:https://www.slcta.org/event/site-rep-meeting-7/
LOCATION:Bishops Peak Library\, 451 Jaycee Drive\, San Luis Obispo\, CA\, 93405\, United States
CATEGORIES:Site Rep & Exec Board
ATTACH;FMTTYPE=image/png:https://www.slcta.org/wp-content/uploads/2014/11/slcta-logo.png
END:VEVENT
BEGIN:VEVENT
DTSTART;TZID=America/Los_Angeles:20221206T160000
DTEND;TZID=America/Los_Angeles:20221206T173000
DTSTAMP:20260425T070507
CREATED:20220831T043747Z
LAST-MODIFIED:20220831T045829Z
UID:2660-1670342400-1670347800@www.slcta.org
SUMMARY:Site Rep Meeting
DESCRIPTION:
URL:https://www.slcta.org/event/site-rep-meeting-6/
LOCATION:Association Office\, 1310 Van Beurden Drive\, Building C-1\, Los Osos\, CA\, 93402\, United States
CATEGORIES:Site Rep & Exec Board
ATTACH;FMTTYPE=image/png:https://www.slcta.org/wp-content/uploads/2014/11/cropped-slcta-logo.png
END:VEVENT
BEGIN:VEVENT
DTSTART;TZID=America/Los_Angeles:20221108T160000
DTEND;TZID=America/Los_Angeles:20221108T173000
DTSTAMP:20260425T070507
CREATED:20220831T043632Z
LAST-MODIFIED:20220831T045311Z
UID:2658-1667923200-1667928600@www.slcta.org
SUMMARY:Site Rep Meeting
DESCRIPTION:
URL:https://www.slcta.org/event/site-rep-meeting-5/
LOCATION:Bishops Peak Library\, 451 Jaycee Drive\, San Luis Obispo\, CA\, 93405\, United States
CATEGORIES:Site Rep & Exec Board
ATTACH;FMTTYPE=image/png:https://www.slcta.org/wp-content/uploads/2014/11/cropped-slcta-logo.png
END:VEVENT
BEGIN:VEVENT
DTSTART;TZID=America/Los_Angeles:20221011T160000
DTEND;TZID=America/Los_Angeles:20221011T173000
DTSTAMP:20260425T070507
CREATED:20220831T043412Z
LAST-MODIFIED:20220831T043412Z
UID:2656-1665504000-1665509400@www.slcta.org
SUMMARY:Site Rep Meeting
DESCRIPTION:
URL:https://www.slcta.org/event/site-rep-meeting-4/
LOCATION:Association Office\, 1310 Van Beurden Drive\, Building C-1\, Los Osos\, CA\, 93402\, United States
CATEGORIES:Site Rep & Exec Board
ATTACH;FMTTYPE=image/png:https://www.slcta.org/wp-content/uploads/2014/11/cropped-slcta-logo.png
END:VEVENT
BEGIN:VEVENT
DTSTART;TZID=America/Los_Angeles:20220913T160000
DTEND;TZID=America/Los_Angeles:20220913T173000
DTSTAMP:20260425T070507
CREATED:20220831T043147Z
LAST-MODIFIED:20220831T043147Z
UID:2654-1663084800-1663090200@www.slcta.org
SUMMARY:Site Rep Meeting & Training
DESCRIPTION:
URL:https://www.slcta.org/event/site-rep-meeting-training/
LOCATION:Association Office\, 1310 Van Beurden Drive\, Building C-1\, Los Osos\, CA\, 93402\, United States
CATEGORIES:Site Rep & Exec Board
ATTACH;FMTTYPE=image/png:https://www.slcta.org/wp-content/uploads/2014/11/cropped-slcta-logo.png
END:VEVENT
BEGIN:VEVENT
DTSTART;TZID=America/Los_Angeles:20220531T160000
DTEND;TZID=America/Los_Angeles:20220531T173000
DTSTAMP:20260425T070507
CREATED:20220316T191339Z
LAST-MODIFIED:20220324T013329Z
UID:2427-1654012800-1654018200@www.slcta.org
SUMMARY:Site Rep Meeting
DESCRIPTION:
URL:https://www.slcta.org/event/site-rep-meeting-3/
LOCATION:SLCTA Office\, 1310 Van Beurden Drive\, Building C-1\, Los Osos\, CA\, 93412\, United States
CATEGORIES:Site Rep & Exec Board
END:VEVENT
BEGIN:VEVENT
DTSTART;TZID=America/Los_Angeles:20220503T160000
DTEND;TZID=America/Los_Angeles:20220503T173000
DTSTAMP:20260425T070507
CREATED:20220316T191256Z
LAST-MODIFIED:20220324T220601Z
UID:2425-1651593600-1651599000@www.slcta.org
SUMMARY:Site Rep Meeting
DESCRIPTION:
URL:https://www.slcta.org/event/site-rep-meeting-2/
LOCATION:Association Office\, 1310 Van Beurden Drive\, Building C-1\, Los Osos\, CA\, 93402\, United States
CATEGORIES:Site Rep & Exec Board
END:VEVENT
BEGIN:VEVENT
DTSTART;TZID=America/Los_Angeles:20220405T160000
DTEND;TZID=America/Los_Angeles:20220405T173000
DTSTAMP:20260425T070507
CREATED:20220316T191215Z
LAST-MODIFIED:20220324T013422Z
UID:2423-1649174400-1649179800@www.slcta.org
SUMMARY:Site Rep Meeting
DESCRIPTION:
URL:https://www.slcta.org/event/site-rep-meeting/
LOCATION:SLCTA Office\, 1310 Van Beurden Drive\, Building C-1\, Los Osos\, CA\, 93412\, United States
CATEGORIES:Site Rep & Exec Board
END:VEVENT
BEGIN:VEVENT
DTSTART;TZID=America/Los_Angeles:20190903T160000
DTEND;TZID=America/Los_Angeles:20190903T173000
DTSTAMP:20260425T070507
CREATED:20190817T002941Z
LAST-MODIFIED:20190817T002941Z
UID:2182-1567526400-1567531800@www.slcta.org
SUMMARY:Site Rep Training
DESCRIPTION:
URL:https://www.slcta.org/event/site-rep-training/
LOCATION:SLCTA Office\, 1310 Van Beurden Drive\, Building C-1\, Los Osos\, CA\, 93412\, United States
CATEGORIES:Site Rep & Exec Board
END:VEVENT
BEGIN:VEVENT
DTSTART;TZID=America/Los_Angeles:20190528T160000
DTEND;TZID=America/Los_Angeles:20190528T173000
DTSTAMP:20260425T070507
CREATED:20180914T235049Z
LAST-MODIFIED:20180914T235049Z
UID:1899-1559059200-1559064600@www.slcta.org
SUMMARY:Site Rep Meeting (Ex Bd Mtg Follows)
DESCRIPTION:
URL:https://www.slcta.org/event/site-rep-meeting-ex-bd-mtg-follows-6/
LOCATION:SLCTA Office\, 1310 Van Beurden Drive\, Building C-1\, Los Osos\, CA\, 93412\, United States
CATEGORIES:Site Rep & Exec Board
END:VEVENT
BEGIN:VEVENT
DTSTART;TZID=America/Los_Angeles:20190507T160000
DTEND;TZID=America/Los_Angeles:20190507T173000
DTSTAMP:20260425T070507
CREATED:20180914T234826Z
LAST-MODIFIED:20180914T234826Z
UID:1895-1557244800-1557250200@www.slcta.org
SUMMARY:Site Rep Meeting (Ex Bd Mtg Follows)
DESCRIPTION:
URL:https://www.slcta.org/event/site-rep-meeting-ex-bd-mtg-follows-5/
LOCATION:SLCTA Office\, 1310 Van Beurden Drive\, Building C-1\, Los Osos\, CA\, 93412\, United States
CATEGORIES:Site Rep & Exec Board
END:VEVENT
BEGIN:VEVENT
DTSTART;TZID=America/Los_Angeles:20190409T160000
DTEND;TZID=America/Los_Angeles:20190409T173000
DTSTAMP:20260425T070507
CREATED:20180914T234740Z
LAST-MODIFIED:20180914T234740Z
UID:1893-1554825600-1554831000@www.slcta.org
SUMMARY:Site Rep Meeting (Ex Bd Mtg Follows)
DESCRIPTION:
URL:https://www.slcta.org/event/site-rep-meeting-ex-bd-mtg-follows-4/
LOCATION:Bishops Peak Library\, 451 Jaycee Drive\, San Luis Obispo\, CA\, 93405\, United States
CATEGORIES:Site Rep & Exec Board
END:VEVENT
BEGIN:VEVENT
DTSTART;TZID=America/Los_Angeles:20190305T160000
DTEND;TZID=America/Los_Angeles:20190305T173000
DTSTAMP:20260425T070507
CREATED:20180914T234639Z
LAST-MODIFIED:20180914T234639Z
UID:1891-1551801600-1551807000@www.slcta.org
SUMMARY:Site Rep Meeting (Ex Bd Mtg Follows)
DESCRIPTION:
URL:https://www.slcta.org/event/site-rep-meeting-ex-bd-mtg-follows-3/
LOCATION:SLCTA Office\, 1310 Van Beurden Drive\, Building C-1\, Los Osos\, CA\, 93412\, United States
CATEGORIES:Site Rep & Exec Board
END:VEVENT
BEGIN:VEVENT
DTSTART;TZID=America/Los_Angeles:20190212T160000
DTEND;TZID=America/Los_Angeles:20190212T173000
DTSTAMP:20260425T070507
CREATED:20180914T234545Z
LAST-MODIFIED:20180914T234545Z
UID:1889-1549987200-1549992600@www.slcta.org
SUMMARY:Site Rep Meeting (Ex Bd Mtg Follows)
DESCRIPTION:
URL:https://www.slcta.org/event/site-rep-meeting-ex-bd-mtg-follows-2/
LOCATION:Bishops Peak Library\, 451 Jaycee Drive\, San Luis Obispo\, CA\, 93405\, United States
CATEGORIES:Site Rep & Exec Board
END:VEVENT
BEGIN:VEVENT
DTSTART;TZID=America/Los_Angeles:20190108T160000
DTEND;TZID=America/Los_Angeles:20190108T173000
DTSTAMP:20260425T070507
CREATED:20180914T234325Z
LAST-MODIFIED:20180914T234325Z
UID:1885-1546963200-1546968600@www.slcta.org
SUMMARY:Site Rep Meeting (Ex Bd Mtg Follows)
DESCRIPTION:
URL:https://www.slcta.org/event/site-rep-meeting-ex-bd-mtg-follows/
LOCATION:SLCTA Office\, 1310 Van Beurden Drive\, Building C-1\, Los Osos\, CA\, 93412\, United States
CATEGORIES:Site Rep & Exec Board
END:VEVENT
BEGIN:VEVENT
DTSTART;TZID=America/Los_Angeles:20181211T160000
DTEND;TZID=America/Los_Angeles:20181211T173000
DTSTAMP:20260425T070507
CREATED:20180914T234224Z
LAST-MODIFIED:20180914T234224Z
UID:1883-1544544000-1544549400@www.slcta.org
SUMMARY:Site Rep Meeting (Exec Bd Mtg Follows)
DESCRIPTION:
URL:https://www.slcta.org/event/site-rep-meeting-exec-bd-mtg-follows-3/
LOCATION:Bishops Peak Library\, 451 Jaycee Drive\, San Luis Obispo\, CA\, 93405\, United States
CATEGORIES:Site Rep & Exec Board
END:VEVENT
BEGIN:VEVENT
DTSTART;TZID=America/Los_Angeles:20181009T160000
DTEND;TZID=America/Los_Angeles:20181009T173000
DTSTAMP:20260425T070507
CREATED:20180914T233352Z
LAST-MODIFIED:20180914T233352Z
UID:1873-1539100800-1539106200@www.slcta.org
SUMMARY:Site Rep Meeting (Exec Bd. Mtg follows)
DESCRIPTION:
URL:https://www.slcta.org/event/site-rep-meeting-exec-bd-mtg-follows-2/
LOCATION:Bishops Peak Library\, 451 Jaycee Drive\, San Luis Obispo\, CA\, 93405\, United States
CATEGORIES:Site Rep & Exec Board
END:VEVENT
BEGIN:VEVENT
DTSTART;TZID=America/Los_Angeles:20180918T160000
DTEND;TZID=America/Los_Angeles:20180918T173000
DTSTAMP:20260425T070507
CREATED:20180914T233253Z
LAST-MODIFIED:20180914T233253Z
UID:1871-1537286400-1537291800@www.slcta.org
SUMMARY:Site Rep Meeting (Exec Bd. Mtg follows)
DESCRIPTION:
URL:https://www.slcta.org/event/site-rep-meeting-exec-bd-mtg-follows/
LOCATION:SLCTA Office\, 1310 Van Beurden Drive\, Building C-1\, Los Osos\, CA\, 93412\, United States
CATEGORIES:Site Rep & Exec Board
END:VEVENT
END:VCALENDAR